BEGIN:VCALENDAR
VERSION:2.0
PRODID:-//ChamberMaster//Event Calendar 2.0//EN
METHOD:PUBLISH
X-PUBLISHED-TTL:P3D
REFRESH-INTERVAL:P3D
CALSCALE:GREGORIAN
BEGIN:VEVENT
DTSTART:20260622T140000Z
DTEND:20260626T170000Z
X-MICROSOFT-CDO-ALLDAYEVENT:FALSE
SUMMARY:2026 VBS at River Ridge Church+
DESCRIPTION:We are excited to share the details of our upcoming 2026 VBS program: RAINFOREST FALLS- Exploring the Nature of God! It will be held June 22 - 26 from 9 a.m. until 12:00 p.m. at River Ridge Church\, 7664 Wilmot Rd\, Spring Grove\, IL 60081\n\nPreschool is open to children entering 4k and 5k and elementary is open to those children entering 1st-5th grade in the fall of 2026.  Registration includes a VBS t-shirt. Registration will close on Sunday\, June 14th. The cost is $25 per child.  There is a family maximum of $75.00\, so if more than 3 immediate family members are registered\, there will be no charge for additional children.  We will be having a family picnic on Friday\, June 26th\, at the end of VBS this year.
X-ALT-DESC;FMTTYPE=text/html:We are excited to share the details of our upcoming 2026 VBS program: RAINFOREST FALLS- Exploring the Nature of God! It will be held June 22 - 26 from 9 a.m. until 12:00 p.m. at River Ridge Church\, 7664 Wilmot Rd\, Spring Grove\, IL 60081<br />\nPreschool is open to children entering 4k and 5k and elementary is open to those children entering 1st-5th grade in the fall of 2026.&nbsp\; Registration includes a VBS t-shirt. Registration will close on Sunday\, June 14th. The cost is $25 per child.&nbsp\; There is a family maximum of $75.00\, so if more than 3 immediate family members are registered\, there will be no charge for additional children.&nbsp\; We will be having a family picnic on Friday\, June 26th\, at the end of VBS this year.
LOCATION:River Ridge Church 7664 Wilmot Road Spring Grove\, IL 60081
UID:e.2066.13207
SEQUENCE:3
DTSTAMP:20260426T002908Z
URL:https://business.chainolakeschamber.com/events/details/2026-vbs-at-river-ridge-church-13207
END:VEVENT

END:VCALENDAR
