BEGIN:VCALENDAR
VERSION:2.0
PRODID:-//ChamberMaster//Event Calendar 2.0//EN
METHOD:PUBLISH
X-PUBLISHED-TTL:P3D
REFRESH-INTERVAL:P3D
CALSCALE:GREGORIAN
BEGIN:VEVENT
DTSTART:20230617T150000Z
DTEND:20230618T010000Z
X-MICROSOFT-CDO-ALLDAYEVENT:FALSE
SUMMARY:2nd Annual Children's TBI Awareness Ride - Bikers with Hearts
DESCRIPTION:o the wonderful motorcycle community\, SAVE THE DATE: Saturday 6/17/23. We are back with our 2nd Annual Children's Traumatic Brain Injury Awareness Ride to help the youngest of us. We will be working with Children's Wisconsin again. This event will be the first event to be hosted by our new Nonprofit Organization: Bikers with Hearts Charity. We are beyond excited!\n\n \n\n***REGISTRATION is at 9am at 03 on 83 Saloon in Trevor\, WI.\n\n*** $20 per bike\n\nSafety Brief at 10am.\n\n***KICKSTANDS UP at 10:30am\n\n:Our first stop will be at Zenda Tap in Zenda\, WI.\n\n:From there we will ride to The Dirty Hoe Saloon in Kansasville\, WI. This will be our lunch stop. Food will be available.\n\n:We will end our day at 2 Brothers Bar and Grill in Genoa City\, WI.\n\nAt 2 Brothers\, Live entertainment will be provided by Nashville Singer/Songwriter Eric Burgett!!!\n\nOf course there will be raffle baskets and 50/50!!\n\nMake sure those bikes are ready. Can't wait to see everyone out there.\n\nThis will be a rain or shine event like last year!
X-ALT-DESC;FMTTYPE=text/html:<div class="x11i5rnm xat24cr x1mh8g0r x1vvkbs xtlvy1s" style="margin: 0.5em 0px 0px\; overflow-wrap: break-word\; font-family: &quot\;Segoe UI Historic&quot\;\, &quot\;Segoe UI&quot\;\, Helvetica\, Arial\, sans-serif\; color: rgb(5\, 5\, 5)\; font-size: 15px\; background-color: rgb(255\, 255\, 255)\;">o the wonderful motorcycle community\, SAVE THE DATE: Saturday 6/17/23. We are back with our 2nd Annual Children&#39\;s Traumatic Brain Injury Awareness Ride to help the youngest of us. We will be working with Children&#39\;s Wisconsin again. This event will be the first event to be hosted by our new Nonprofit Organization: Bikers with Hearts Charity. We are beyond excited!</div>\n\n<div class="x11i5rnm xat24cr x1mh8g0r x1vvkbs xtlvy1s" style="margin: 0.5em 0px 0px\; overflow-wrap: break-word\; font-family: &quot\;Segoe UI Historic&quot\;\, &quot\;Segoe UI&quot\;\, Helvetica\, Arial\, sans-serif\; color: rgb(5\, 5\, 5)\; font-size: 15px\; background-color: rgb(255\, 255\, 255)\;">&nbsp\;</div>\n\n<div class="x11i5rnm xat24cr x1mh8g0r x1vvkbs xtlvy1s" style="margin: 0.5em 0px 0px\; overflow-wrap: break-word\; font-family: &quot\;Segoe UI Historic&quot\;\, &quot\;Segoe UI&quot\;\, Helvetica\, Arial\, sans-serif\; color: rgb(5\, 5\, 5)\; font-size: 15px\; background-color: rgb(255\, 255\, 255)\;">***REGISTRATION is at 9am at 03 on 83 Saloon in Trevor\, WI.<br />\n*** $20 per bike<br />\nSafety Brief at 10am.<br />\n***KICKSTANDS UP at 10:30am</div>\n\n<div class="x11i5rnm xat24cr x1mh8g0r x1vvkbs xtlvy1s" style="margin: 0.5em 0px 0px\; overflow-wrap: break-word\; font-family: &quot\;Segoe UI Historic&quot\;\, &quot\;Segoe UI&quot\;\, Helvetica\, Arial\, sans-serif\; color: rgb(5\, 5\, 5)\; font-size: 15px\; background-color: rgb(255\, 255\, 255)\;">:Our first stop will be at Zenda Tap in Zenda\, WI.<br />\n:From there we will ride to The Dirty Hoe Saloon in Kansasville\, WI. This will be our lunch stop. Food will be available.<br />\n:We will end our day at 2 Brothers Bar and Grill in Genoa City\, WI.</div>\n\n<div class="x11i5rnm xat24cr x1mh8g0r x1vvkbs xtlvy1s" style="margin: 0.5em 0px 0px\; overflow-wrap: break-word\; font-family: &quot\;Segoe UI Historic&quot\;\, &quot\;Segoe UI&quot\;\, Helvetica\, Arial\, sans-serif\; color: rgb(5\, 5\, 5)\; font-size: 15px\; background-color: rgb(255\, 255\, 255)\;">At 2 Brothers\, Live entertainment will be provided by Nashville Singer/Songwriter Eric Burgett!!!<br />\nOf course there will be raffle baskets and 50/50!!</div>\n\n<div class="x11i5rnm xat24cr x1mh8g0r x1vvkbs xtlvy1s" style="margin: 0.5em 0px 0px\; overflow-wrap: break-word\; font-family: &quot\;Segoe UI Historic&quot\;\, &quot\;Segoe UI&quot\;\, Helvetica\, Arial\, sans-serif\; color: rgb(5\, 5\, 5)\; font-size: 15px\; background-color: rgb(255\, 255\, 255)\;">Make sure those bikes are ready. Can&#39\;t wait to see everyone out there.<br />\nThis will be a rain or shine event like last year!</div>\n
LOCATION:***REGISTRATION is at 9am at 03 on 83 Saloon (Hawg) 10306 Antioch Rd Salem WI 53168 Safety Brief at 10am. KICKSTANDS UP at 10:30am Our first stop will be at Zenda Tap in Zenda\, WI. From there we will ride to The Dirty Hoe Saloon in Kansasville\, WI. This will be our lunch stop. Food will be available. :We will end our day at 2 Brothers Bar and Grill in Genoa City\, WI.
UID:e.2066.5234
SEQUENCE:3
DTSTAMP:20260419T174758Z
URL:https://business.chainolakeschamber.com/events/details/2nd-annual-children-s-tbi-awareness-ride-bikers-with-hearts-5234
END:VEVENT

END:VCALENDAR
