BEGIN:VCALENDAR
VERSION:2.0
PRODID:-//ChamberMaster//Event Calendar 2.0//EN
METHOD:PUBLISH
X-PUBLISHED-TTL:P3D
REFRESH-INTERVAL:P3D
CALSCALE:GREGORIAN
BEGIN:VEVENT
DTSTART:20230422T150000Z
DTEND:20230422T180000Z
X-MICROSOFT-CDO-ALLDAYEVENT:FALSE
SUMMARY:2nd Annual Earth Day Community Clean Up Event
DESCRIPTION:Join us for our 2nd annual Earth Day Community Clean Up Event. It will start at 10am on Saturday\, April 22nd and go until 1pm. There will also be activities for kids and a historic marker dedicated at 11:30am. The event will take place at Millenium Park in Fox Lake.\n\nRain date: April 29\, 2023
X-ALT-DESC;FMTTYPE=text/html:<span style="color: rgb(36\, 36\, 36)\; font-family: &quot\;Segoe UI&quot\;\, &quot\;Segoe UI Web (West European)&quot\;\, &quot\;Segoe UI&quot\;\, -apple-system\, BlinkMacSystemFont\, Roboto\, &quot\;Helvetica Neue&quot\;\, sans-serif\; font-size: 15px\;">Join us for our 2nd annual Earth Day Community Clean Up Event. It will start at 10am on Saturday\, April 22nd and go until 1pm. There will also be activities for kids and a historic marker dedicated at 11:30am. The event will take place at Millenium Park in Fox Lake.<br />\nRain date: April 29\, 2023</span><br />\n<br />\n&nbsp\;
LOCATION:Millenium Park Gazebo 23 Rollins Road Fox Lake\, IL
UID:e.2066.5074
SEQUENCE:3
DTSTAMP:20260419T205606Z
URL:https://business.chainolakeschamber.com/events/details/2nd-annual-earth-day-community-clean-up-event-5074
END:VEVENT

END:VCALENDAR
