BEGIN:VCALENDAR
VERSION:2.0
PRODID:-//ChamberMaster//Event Calendar 2.0//EN
METHOD:PUBLISH
X-PUBLISHED-TTL:P3D
REFRESH-INTERVAL:P3D
CALSCALE:GREGORIAN
BEGIN:VEVENT
DTSTART:20260316T200000Z
DTEND:20260316T213000Z
X-MICROSOFT-CDO-ALLDAYEVENT:FALSE
SUMMARY:AARP Smart DriverTEK Interactive Workshop at Raymond Kia
DESCRIPTION:This 90-minute virtual Smart DriverTEK interactive workshop will cover the latest technologies to look for when shopping for a new car and how to make the most of these high-tech safety features when driving. Learn about the safety benefits of:\n\n	Blind spot warning systems\n	Forward collision warnings\n	Lane departure warnings\n	Smart headlights\n	Voice integration and more!\n\nThis will be conducted classroom style with a representative from AARP here at the Raymond Kia dealership!
X-ALT-DESC;FMTTYPE=text/html:This 90-minute virtual Smart DriverTEK interactive workshop will cover the latest technologies to look for when shopping for a new car and how to make the most of these high-tech safety features when driving. Learn about the safety benefits of:\n<ul>\n	<li>Blind spot warning systems</li>\n	<li>Forward collision warnings</li>\n	<li>Lane departure warnings</li>\n	<li>Smart headlights</li>\n	<li>Voice integration and more!</li>\n</ul>\nThis will be conducted classroom style with a representative from AARP here at the Raymond Kia dealership!
LOCATION:Raymond Kia 118 Route 173 Antioch IL 60002
UID:e.2066.12925
SEQUENCE:3
DTSTAMP:20260425T234608Z
URL:https://business.chainolakeschamber.com/events/details/aarp-smart-drivertek-interactive-workshop-at-raymond-kia-12925
END:VEVENT

END:VCALENDAR
