BEGIN:VCALENDAR
VERSION:2.0
PRODID:-//ChamberMaster//Event Calendar 2.0//EN
METHOD:PUBLISH
X-PUBLISHED-TTL:P3D
REFRESH-INTERVAL:P3D
CALSCALE:GREGORIAN
BEGIN:VEVENT
DTSTART:20260704T220000Z
DTEND:20260705T003000Z
X-MICROSOFT-CDO-ALLDAYEVENT:FALSE
SUMMARY:Beach Fest
DESCRIPTION:Join us for our 2026 Beach Fest\, this year we will be having 2-day festival. Event starts date July 3&4 where we will be having live music\, variety of food trucks. Free admission for everyone!! For Saturday\, July 4 we will be having live fireworks to end the night.
X-ALT-DESC;FMTTYPE=text/html:<span style="background-color:rgb(255\, 255\, 255)\; color:rgb(51\, 51\, 51)\; font-family:sans-serif\,arial\,verdana\,trebuchet ms\; font-size:13px">Join us for our 2026 Beach Fest\, this year we will be having 2-day festival. Event starts date July 3&amp\;4 where we will be having live music\, variety of food trucks. Free admission for everyone!! For Saturday\, July 4 we will be having live fireworks to end the night.&nbsp\;</span>
LOCATION:Village Of Round Lake Beach Cultural & Civic Center 2007 N. Civic Center Way Round Lake Beach\, IL 60073
UID:e.2066.13129
SEQUENCE:3
DTSTAMP:20260426T020002Z
URL:https://business.chainolakeschamber.com/events/details/beach-fest-07-04-2026-13129
END:VEVENT

END:VCALENDAR
