BEGIN:VCALENDAR
VERSION:2.0
PRODID:-//ChamberMaster//Event Calendar 2.0//EN
METHOD:PUBLISH
X-PUBLISHED-TTL:P3D
REFRESH-INTERVAL:P3D
CALSCALE:GREGORIAN
BEGIN:VEVENT
DTSTART:20260704T000000Z
DTEND:20260704T020000Z
X-MICROSOFT-CDO-ALLDAYEVENT:FALSE
SUMMARY:BeachFest
DESCRIPTION:Join us for our 2026 Beach Fest\, this year we will be having 2-day festival. Event starts date July 3&4 where we will be having live music\, variety of food trucks. Free admission for everyone!! For Saturday\, July 4 we will be having live fireworks to end the night.
X-ALT-DESC;FMTTYPE=text/html:Join us for our 2026 Beach Fest\, this year we will be having 2-day festival. Event starts date July 3&amp\;4 where we will be having live music\, variety of food trucks. Free admission for everyone!! For Saturday\, July 4 we will be having live fireworks to end the night.&nbsp\;
LOCATION:Village Of Round Lake Beach Cultural & Civic Center OUTSIDE AREA 2007 N Civic Center Way Round Lake Beach\, IL 60073
UID:e.2066.13127
SEQUENCE:3
DTSTAMP:20260426T015904Z
URL:https://business.chainolakeschamber.com/events/details/beachfest-13127
END:VEVENT

END:VCALENDAR
