BEGIN:VCALENDAR
VERSION:2.0
PRODID:-//ChamberMaster//Event Calendar 2.0//EN
METHOD:PUBLISH
X-PUBLISHED-TTL:P3D
REFRESH-INTERVAL:P3D
CALSCALE:GREGORIAN
BEGIN:VEVENT
DTSTART:20260318T193000Z
DTEND:20260318T233000Z
X-MICROSOFT-CDO-ALLDAYEVENT:FALSE
SUMMARY:Blood Drive & Community Mixer: Luck Never Runs Out on Good Causes!
DESCRIPTION:Join us for an afternoon where doing good meets community collaboration - blood drives\, essential supplies donations\, handmade jewelry\, and great \n\nconversation all in one place - Good Causes and Good Times!\n\n	Versiti Blood Centers Mobile Unit - Donate blood for McHenry County (RSVP required)\n	Keeping Families Covered - Donate or eceive diapers\, incontinence supplies\, and feminine hygiene products\n	Alexander Leigh Center for Autism - Shop handmade jewelry created by students\n	Mercyhealth Wellness Mobile Unit - Information on health services for older adults\n	Community Mixer - Light refreshments and conversation
X-ALT-DESC;FMTTYPE=text/html:<span style="font-size:16px\;">Join us for an afternoon where&nbsp\;doing good meets community&nbsp\;collaboration - blood drives\,&nbsp\;essential supplies donations\,&nbsp\;handmade jewelry\, and great&nbsp\;<br />\nconversation all in one place - Good Causes and Good Times!</span>\n<ul>\n	<li><span style="font-size:16px\;"><strong>Versiti Blood Centers Mobile Unit </strong>- Donate&nbsp\;blood for McHenry County (RSVP required)</span></li>\n	<li><span style="font-size:16px\;"><strong>Keeping Families Covered</strong> - Donate or eceive diapers\, incontinence supplies\, and&nbsp\;feminine hygiene products</span></li>\n	<li><span style="font-size:16px\;"><strong>Alexander Leigh Center for Autism</strong> - Shop handmade jewelry created by students</span></li>\n	<li><span style="font-size:16px\;"><strong>Mercyhealth Wellness Mobile Unit </strong>-&nbsp\;Information on health services for older&nbsp\;adults</span></li>\n	<li><span style="font-size:16px\;"><strong>Community Mixer</strong> - Light refreshments&nbsp\;and conversation</span></li>\n</ul>\n
LOCATION:The Courtyard at McHenry 3300 Chas. J. Miller Road McHenry IL 60050
UID:e.2066.12832
SEQUENCE:3
DTSTAMP:20260425T234759Z
URL:https://business.chainolakeschamber.com/events/details/blood-drive-community-mixer-luck-never-runs-out-on-good-causes-12832
END:VEVENT

END:VCALENDAR
