BEGIN:VCALENDAR
VERSION:2.0
PRODID:-//ChamberMaster//Event Calendar 2.0//EN
METHOD:PUBLISH
X-PUBLISHED-TTL:P3D
REFRESH-INTERVAL:P3D
CALSCALE:GREGORIAN
BEGIN:VEVENT
DTSTART:20220616T140000Z
DTEND:20220616T144500Z
X-MICROSOFT-CDO-ALLDAYEVENT:FALSE
SUMMARY:Career Development: Help Them Grow or Watch Them Go
DESCRIPTION:As the old saying goes\, "if you think it's expensive to train someone and have them leave\, what does it cost you to NOT train them and have them stay?" In today's challenging workplace\, employees know they need to keep skills and knowledge fresh. They want to have a clear path with options for growth and development. Businesses that don't offer these options soon find themselves left behind as staff seek out employers who will invest in them and reap the benefits of those investments in return. This workshop includes open consultation to all participants from 10 a.m. to 1 p.m.
X-ALT-DESC;FMTTYPE=text/html:As the old saying goes\, &quot\;if you think it&#39\;s expensive to train someone and have them leave\, what does it cost you to NOT train them and have them stay?&quot\; In today&#39\;s challenging workplace\, employees know they need to keep skills and knowledge fresh. They want to have a clear path with options for growth and development. Businesses that don&#39\;t offer these options soon find themselves left behind as staff seek out employers who will invest in them and reap the benefits of those investments in return. This workshop includes open consultation to all participants from 10 a.m. to 1 p.m.
LOCATION:Virtual Live
UID:e.2066.4508
SEQUENCE:3
DTSTAMP:20260422T205018Z
URL:https://business.chainolakeschamber.com/events/details/career-development-help-them-grow-or-watch-them-go-4508
END:VEVENT

END:VCALENDAR
