BEGIN:VCALENDAR
VERSION:2.0
PRODID:-//ChamberMaster//Event Calendar 2.0//EN
METHOD:PUBLISH
X-PUBLISHED-TTL:P3D
REFRESH-INTERVAL:P3D
CALSCALE:GREGORIAN
BEGIN:VEVENT
DTSTART:20230801T220000Z
DTEND:20230802T000000Z
X-MICROSOFT-CDO-ALLDAYEVENT:FALSE
SUMMARY:CASA of McHenry County Open House - Multi-Chamber Mixer
DESCRIPTION:CASA of McHenry County Open House and Multi-Chamber Mixer\n\nTuesday\, August 1\, 2023 at 5PM\n\n382 West Virginia Street\, Crystal Lake\, IL 60014\n\n\n\nJoin us to celebrate CASA of McHenry County's new location here in Crystal Lake.
X-ALT-DESC;FMTTYPE=text/html:<div style="text-align: center\;">CASA of McHenry County Open House and Multi-Chamber Mixer<br />\nTuesday\, August 1\, 2023 at 5PM<br />\n382 West Virginia Street\, Crystal Lake\, IL 60014<br />\n<br />\nJoin us to celebrate CASA of McHenry County&#39\;s new location here in Crystal Lake.</div>\n
LOCATION:CASA of McHenry County 382 West Virginia Street Crystal Lake\, IL 60014
UID:e.2066.5312
SEQUENCE:3
DTSTAMP:20260419T140737Z
URL:https://business.chainolakeschamber.com/events/details/casa-of-mchenry-county-open-house-multi-chamber-mixer-5312
END:VEVENT

END:VCALENDAR
