BEGIN:VCALENDAR
VERSION:2.0
PRODID:-//ChamberMaster//Event Calendar 2.0//EN
METHOD:PUBLISH
X-PUBLISHED-TTL:P3D
REFRESH-INTERVAL:P3D
CALSCALE:GREGORIAN
BEGIN:VEVENT
DTSTART:20230628T230000Z
DTEND:20230629T010000Z
X-MICROSOFT-CDO-ALLDAYEVENT:FALSE
SUMMARY:Citizens for Tom Weber Fundraiser
DESCRIPTION:Join Trotter and Associates at the Citizens for Tom Weber Fundraiser. Representative Weber considers it a high honor representing our district and one of his focuses is on small business. He would enjoy seeing you if you are able to attend!
X-ALT-DESC;FMTTYPE=text/html:Join Trotter and Associates at the Citizens for Tom Weber Fundraiser. Representative Weber considers it a high honor representing our district and one of his focuses is on small business. He would enjoy seeing you if you are able to attend!
LOCATION:Trotter Engineering 38 W. Grand Ave Suite 300 Fox Lake IL 60020
UID:e.2066.5260
SEQUENCE:3
DTSTAMP:20260419T173232Z
URL:https://business.chainolakeschamber.com/events/details/citizens-for-tom-weber-fundraiser-5260
END:VEVENT

END:VCALENDAR
