BEGIN:VCALENDAR
VERSION:2.0
PRODID:-//ChamberMaster//Event Calendar 2.0//EN
METHOD:PUBLISH
X-PUBLISHED-TTL:P3D
REFRESH-INTERVAL:P3D
CALSCALE:GREGORIAN
BEGIN:VEVENT
DTSTART:20230509T230000Z
DTEND:20230510T000000Z
X-MICROSOFT-CDO-ALLDAYEVENT:FALSE
SUMMARY:Comenzando su negocio en Illinois
DESCRIPTION:Iniciar un negocio en Illinois tiene desaf os. Esta clase gratuita le brinda al empresario una visi n realista de los requisitos para iniciar un negocio y los recursos disponibles para ayudarlo en una nueva empresa.  Aprenda la informaci n b sica para iniciar un negocio exitoso y obtenga respuestas a las preguntas m s frecuentes!
X-ALT-DESC;FMTTYPE=text/html:Iniciar un negocio en Illinois tiene desaf&iacute\;os. Esta clase gratuita le brinda al empresario una visi&oacute\;n realista de los requisitos para iniciar un negocio y los recursos disponibles para ayudarlo en una nueva empresa. &iexcl\;Aprenda la informaci&oacute\;n b&aacute\;sica para iniciar un negocio exitoso y obtenga respuestas a las preguntas m&aacute\;s frecuentes!
LOCATION:Zoom en vivo
UID:e.2066.5022
SEQUENCE:3
DTSTAMP:20260419T190559Z
URL:https://business.chainolakeschamber.com/events/details/comenzando-su-negocio-en-illinois-05-09-2023-5022
END:VEVENT

END:VCALENDAR
