BEGIN:VCALENDAR
VERSION:2.0
PRODID:-//ChamberMaster//Event Calendar 2.0//EN
METHOD:PUBLISH
X-PUBLISHED-TTL:P3D
REFRESH-INTERVAL:P3D
CALSCALE:GREGORIAN
BEGIN:VEVENT
DTSTART:20221117T003000Z
DTEND:20221117T020000Z
X-MICROSOFT-CDO-ALLDAYEVENT:FALSE
SUMMARY:Community Purse Meeting
DESCRIPTION:Mark your calendar for the next Community Purse Meeting!\n\n\n\nThree Non-Profits Presenting:\n\nPioneer Center\n\nKindred Life Ministries\n\nThe Ruth Project
X-ALT-DESC;FMTTYPE=text/html:Mark your calendar for the next Community Purse Meeting!<br />\n<br />\nThree Non-Profits Presenting:<br />\nPioneer Center<br />\nKindred Life Ministries<br />\nThe Ruth Project<br />\n&nbsp\;
LOCATION:Midwest Breakfast Company 2207 Rt. 12\, Spring Grove
UID:e.2066.4871
SEQUENCE:3
DTSTAMP:20260420T054827Z
URL:https://business.chainolakeschamber.com/events/details/community-purse-meeting-4871
END:VEVENT

END:VCALENDAR
