BEGIN:VCALENDAR
VERSION:2.0
PRODID:-//ChamberMaster//Event Calendar 2.0//EN
METHOD:PUBLISH
X-PUBLISHED-TTL:P3D
REFRESH-INTERVAL:P3D
CALSCALE:GREGORIAN
BEGIN:VEVENT
DTSTART:20230228T180000Z
DTEND:20230228T190000Z
X-MICROSOFT-CDO-ALLDAYEVENT:FALSE
SUMMARY:DOUBLE RIBBON CUTTING at Chapel Hill Bodyworks / Renee Ryan Salon & Spa
DESCRIPTION:DOUBLE RIBBON CUTTING CEREMONY!\n\nJoin us to celebrate the anniversary of mother/daughter businesses - Chapel Hill Bodyworks and Renee Ryan Salon & Spa!
X-ALT-DESC;FMTTYPE=text/html:DOUBLE RIBBON CUTTING CEREMONY!<br />\nJoin us to celebrate the anniversary of mother/daughter businesses - Chapel Hill Bodyworks and Renee Ryan Salon &amp\; Spa!
LOCATION:62 E. Grand Ave. Fox Lake\, IL
UID:e.2066.4931
SEQUENCE:3
DTSTAMP:20260420T003507Z
URL:https://business.chainolakeschamber.com/events/details/double-ribbon-cutting-at-chapel-hill-bodyworks-renee-ryan-salon-spa-4931
END:VEVENT

END:VCALENDAR
