BEGIN:VCALENDAR
VERSION:2.0
PRODID:-//ChamberMaster//Event Calendar 2.0//EN
METHOD:PUBLISH
X-PUBLISHED-TTL:P3D
REFRESH-INTERVAL:P3D
CALSCALE:GREGORIAN
BEGIN:VEVENT
DTSTART:20260502T033000Z
DTEND:20260502T045500Z
X-MICROSOFT-CDO-ALLDAYEVENT:FALSE
SUMMARY:Durty Nellie’s Late Night Takeover with DJ MESSES
DESCRIPTION:While the MAYDAY Multi Genre Event takes over the main stage\, DJ MESSES will be turning up the energy in the front bar at Durty Nellie's from 10:30PM 'til close.\n\n\n\nStep away from the pit and into the party with a nonstop mix of genre-bending anthems\, throwbacks\, heavy hitters\, and late-night chaos guaranteed to keep the vibes alive all night long.\n\n\n\nWhether you're bouncing between sets or looking for a different kind of mayhem\, the front bar is where the MESSES will be happening.
X-ALT-DESC;FMTTYPE=text/html:While the MAYDAY Multi Genre Event takes over the main stage\, DJ MESSES will be turning up the energy in the front bar at Durty Nellie&#39\;s from 10:30PM &lsquo\;til close.<br />\n<br />\nStep away from the pit and into the party with a nonstop mix of genre-bending anthems\, throwbacks\, heavy hitters\, and late-night chaos guaranteed to keep the vibes alive all night long.<br />\n<br />\nWhether you&rsquo\;re bouncing between sets or looking for a different kind of mayhem\, the front bar is where the MESSES will be happening.
LOCATION:Durty Nellie's | 180 N Smith St\, Palatine\, IL 60067
UID:e.2066.13214
SEQUENCE:3
DTSTAMP:20260425T225251Z
URL:https://business.chainolakeschamber.com/events/details/durty-nellie-s-late-night-takeover-with-dj-messes-13214
END:VEVENT

END:VCALENDAR
