BEGIN:VCALENDAR
VERSION:2.0
PRODID:-//ChamberMaster//Event Calendar 2.0//EN
METHOD:PUBLISH
X-PUBLISHED-TTL:P3D
REFRESH-INTERVAL:P3D
CALSCALE:GREGORIAN
BEGIN:VEVENT
DTSTART:20260318T233000Z
DTEND:20260319T010000Z
X-MICROSOFT-CDO-ALLDAYEVENT:FALSE
SUMMARY:GONGTOPIA - The Alchemy of Sounds Experience
DESCRIPTION:Step into an evening of deep resonance\, relaxation\, and renewal. On March 18th from 6:30 8:00pm\, immerse yourself in the transformative vibrations of gongs\, singing bowls\, and sacred sound instruments. ????\n\n?? Sound meditation works through frequency and vibration\, gently supporting the nervous system and helping to release stress\, fatigue\, emotional heaviness\, and stagnant energy. As the tones wash over you\, the body softens\, the mind quiets\, and balance begins to restore itself naturally.\n\nAllow yourself to simply lie back and receive. No experience needed just bring a yoga mat\, blanket\, pillow\, and an open heart.\n\n\n?? Chapel Hill Bodyworks and Wellness\n\n3520 Chapel Hill Rd\n\nJohnsburg\, IL\n\n?? Investment: $40\n\nSpace is limited reserve your spot and come experience the alchemy of sound.
X-ALT-DESC;FMTTYPE=text/html:<p><span style="background-color:transparent\; color:rgb(0\, 0\, 0)\; font-family:arial\,sans-serif\; font-size:11pt">Step into an evening of deep resonance\, relaxation\, and renewal. On </span><strong>March 18th from 6:30&ndash\;8:00pm</strong><span style="background-color:transparent\; color:rgb(0\, 0\, 0)\; font-family:arial\,sans-serif\; font-size:11pt">\, immerse yourself in the transformative vibrations of gongs\, singing bowls\, and sacred sound instruments. ????</span></p>\n\n<p><span style="background-color:transparent\; color:rgb(0\, 0\, 0)\; font-family:arial\,sans-serif\; font-size:11pt">?? Sound meditation works through frequency and vibration\, gently supporting the nervous system and helping to release stress\, fatigue\, emotional heaviness\, and stagnant energy. As the tones wash over you\, the body softens\, the mind quiets\, and balance begins to restore itself&mdash\;naturally.</span></p>\n\n<p><span style="background-color:transparent\; color:rgb(0\, 0\, 0)\; font-family:arial\,sans-serif\; font-size:11pt">Allow yourself to simply lie back and receive. No experience needed&mdash\;just bring a yoga mat\, blanket\, pillow\, and an open heart.</span></p>\n\n<div>\n<p><span style="background-color:transparent\; color:rgb(0\, 0\, 0)\; font-family:arial\,sans-serif\; font-size:11pt">?? </span><strong>Chapel Hill Bodyworks and Wellness</strong><br />\n<span style="background-color:transparent\; color:rgb(0\, 0\, 0)\; font-family:arial\,sans-serif\; font-size:11pt">3520 Chapel Hill Rd</span><br />\n<span style="background-color:transparent\; color:rgb(0\, 0\, 0)\; font-family:arial\,sans-serif\; font-size:11pt">Johnsburg\, IL</span></p>\n\n<p><span style="background-color:transparent\; color:rgb(0\, 0\, 0)\; font-family:arial\,sans-serif\; font-size:11pt">?? Investment: $40</span></p>\n\n<p><span style="background-color:transparent\; color:rgb(0\, 0\, 0)\; font-family:arial\,sans-serif\; font-size:11pt">Space is limited&mdash\;reserve your spot and come experience the alchemy of sound.</span></p>\n</div>\n
LOCATION:Chapel Hill Bodyworks and Wellness 3520 Chapel Hill Rd Johnsburg\, IL
UID:e.2066.12923
SEQUENCE:3
DTSTAMP:20260425T234759Z
URL:https://business.chainolakeschamber.com/events/details/gongtopia-the-alchemy-of-sounds-experience-12923
END:VEVENT

END:VCALENDAR
