BEGIN:VCALENDAR
VERSION:2.0
PRODID:-//ChamberMaster//Event Calendar 2.0//EN
METHOD:PUBLISH
X-PUBLISHED-TTL:P3D
REFRESH-INTERVAL:P3D
CALSCALE:GREGORIAN
BEGIN:VEVENT
DTSTART:20260517T003000Z
DTEND:20260517T045500Z
X-MICROSOFT-CDO-ALLDAYEVENT:FALSE
SUMMARY:House of Heavy: MESSES in the Pit (18+)
DESCRIPTION:This isn't a party   it's therapy at full volume.\n\n\n\nDJ MESSES is taking over House of Heavy\, delivering a no-holds-barred night of nu-metal nostalgia\, metalcore chaos\, and alt-metal anthems that hit just as hard as your favorite live show. Expect the tracks that raised you\, the breakdowns that still go off\, and the kind of energy you can't fake.\n\n\n\nBuilt for the ones who miss the pit\, crave the riffs\, and live for the drop   this is your night to scream it out\, throw down\, and lose yourself in it.\n\n\n\nFrom Slipknot to Spiritbox\, Korn to Knocked Loose  nothing is off-limits. Just nonstop heaters and controlled chaos all night long.\n\n\n\nNo bands. No waiting. Just pure heavy energy from start to finish.\n\n\n\nGrab your crew. Lace up. Step in. You already know what happens next.
X-ALT-DESC;FMTTYPE=text/html:This isn&rsquo\;t a party &mdash\; it&rsquo\;s therapy at full volume.<br />\n<br />\nDJ MESSES is taking over House of Heavy\, delivering a no-holds-barred night of nu-metal nostalgia\, metalcore chaos\, and alt-metal anthems that hit just as hard as your favorite live show. Expect the tracks that raised you\, the breakdowns that still go off\, and the kind of energy you can&rsquo\;t fake.<br />\n<br />\nBuilt for the ones who miss the pit\, crave the riffs\, and live for the drop &mdash\; this is your night to scream it out\, throw down\, and lose yourself in it.<br />\n<br />\nFrom Slipknot to Spiritbox\, Korn to Knocked Loose&hellip\; nothing is off-limits. Just nonstop heaters and controlled chaos all night long.<br />\n<br />\nNo bands. No waiting. Just pure heavy energy from start to finish.<br />\n<br />\nGrab your crew. Lace up. Step in. You already know what happens next.
LOCATION:The Rave / Eagles Club. 2401 W Wisconsin Ave\, Milwaukee\, WI 53233.
UID:e.2066.13172
SEQUENCE:3
DTSTAMP:20260425T225321Z
URL:https://business.chainolakeschamber.com/events/details/house-of-heavy-messes-in-the-pit-18-13172
END:VEVENT

END:VCALENDAR
