BEGIN:VCALENDAR
VERSION:2.0
PRODID:-//ChamberMaster//Event Calendar 2.0//EN
METHOD:PUBLISH
X-PUBLISHED-TTL:P3D
REFRESH-INTERVAL:P3D
CALSCALE:GREGORIAN
BEGIN:VEVENT
DTSTART:20211118T160000Z
DTEND:20211118T171500Z
X-MICROSOFT-CDO-ALLDAYEVENT:FALSE
SUMMARY:INTRODUCTION TO EXPORTING
DESCRIPTION:This virtual webinar provides you with a comprehensive overview of export requirements and procedures including knowledge\, resources\, and key elements to your export success. Learn how to determine if exporting is right for your company\, the different export models that are used and when each is appropriate\, how to prepare for exporting\, and how to execute on your export plan. Fee: no charge.
X-ALT-DESC;FMTTYPE=text/html:This virtual webinar provides you with a comprehensive overview of export requirements and procedures including knowledge\, resources\, and key elements to your export success. Learn how to determine if exporting is right for your company\, the different export models that are used and when each is appropriate\, how to prepare for exporting\, and how to execute on your export plan. Fee: no charge.
LOCATION:Online via Zoom
UID:e.2066.4149
SEQUENCE:3
DTSTAMP:20260423T082027Z
URL:https://business.chainolakeschamber.com/events/details/introduction-to-exporting-11-18-2021-4149
END:VEVENT

END:VCALENDAR
