BEGIN:VCALENDAR
VERSION:2.0
PRODID:-//ChamberMaster//Event Calendar 2.0//EN
METHOD:PUBLISH
X-PUBLISHED-TTL:P3D
REFRESH-INTERVAL:P3D
CALSCALE:GREGORIAN
BEGIN:VEVENT
DTSTART:20260516T160000Z
DTEND:20260516T190000Z
X-MICROSOFT-CDO-ALLDAYEVENT:FALSE
SUMMARY:Jeeps on the Run: MESSES Live DJ Set
DESCRIPTION:Rev it up and roll out MESSES is bringing the soundtrack to Jeeps on the Run: Just Jeep Show & Shine.\n\n\n\nJoin us for a day of custom builds\, community vibes\, and nonstop music as MESSES spins live while rows of Jeeps line the lot. Whether you're showing off your ride or just pulling up to take it all in\, this is where horsepower meets high-energy beats.\n\n\n\nShow off your Jeep for a $20 donation and compete for Top 10 and Best in Show trophies\, all while supporting a great cause Operation Sweet Life. Feeling bold? Go topless in honor of Go Topless Day (optional\, but always a vibe).\n\n\n\nFood and drinks will be available for purchase at the VFW\, so come hungry\, stay loud\, and make a day of it.\n\n\n\nBring the Jeep. Bring the crew. Let's make some MESSES.
X-ALT-DESC;FMTTYPE=text/html:Rev it up and roll out&mdash\;MESSES is bringing the soundtrack to Jeeps on the Run: Just Jeep Show &amp\; Shine.<br />\n<br />\nJoin us for a day of custom builds\, community vibes\, and nonstop music as MESSES spins live while rows of Jeeps line the lot. Whether you&#39\;re showing off your ride or just pulling up to take it all in\, this is where horsepower meets high-energy beats.<br />\n<br />\nShow off your Jeep for a $20 donation and compete for Top 10 and Best in Show trophies\, all while supporting a great cause&mdash\;Operation Sweet Life. Feeling bold? Go topless in honor of Go Topless Day (optional\, but always a vibe).<br />\n<br />\nFood and drinks will be available for purchase at the VFW\, so come hungry\, stay loud\, and make a day of it.<br />\n<br />\nBring the Jeep. Bring the crew. Let&rsquo\;s make some MESSES.
LOCATION:McHenry VFW Post 4600 3002 IL-120 McHenry\, Illinois\, 60051
UID:e.2066.13158
SEQUENCE:3
DTSTAMP:20260425T225118Z
URL:https://business.chainolakeschamber.com/events/details/jeeps-on-the-run-messes-live-dj-set-13158
END:VEVENT

END:VCALENDAR
