BEGIN:VCALENDAR
VERSION:2.0
PRODID:-//ChamberMaster//Event Calendar 2.0//EN
METHOD:PUBLISH
X-PUBLISHED-TTL:P3D
REFRESH-INTERVAL:P3D
CALSCALE:GREGORIAN
BEGIN:VEVENT
DTSTART:20221115T160000Z
DTEND:20221115T170000Z
X-MICROSOFT-CDO-ALLDAYEVENT:FALSE
SUMMARY:jh Events and Flowers - Multi Chamber Ribbon Cutting!
DESCRIPTION:Join the Chain O'Lakes Area Chamber of Commerce\, Cary Grove Chamber of Commerce and McHenry Chamber of Commerce for the Covid delayed Ribbon Cutting at jh Events and Flowers!
X-ALT-DESC;FMTTYPE=text/html:Join the Chain O&#39\;Lakes Area Chamber of Commerce\, Cary Grove Chamber of Commerce and McHenry Chamber of Commerce for the Covid delayed Ribbon Cutting at jh Events and Flowers!
LOCATION:3603 Municipal Drive McHenry\, IL 60050
UID:e.2066.4620
SEQUENCE:3
DTSTAMP:20260420T060852Z
URL:https://business.chainolakeschamber.com/events/details/jh-events-and-flowers-multi-chamber-ribbon-cutting-4620
END:VEVENT

END:VCALENDAR
