BEGIN:VCALENDAR
VERSION:2.0
PRODID:-//ChamberMaster//Event Calendar 2.0//EN
METHOD:PUBLISH
X-PUBLISHED-TTL:P3D
REFRESH-INTERVAL:P3D
CALSCALE:GREGORIAN
BEGIN:VEVENT
DTSTART:20220603T230000Z
DTEND:20220604T030000Z
X-MICROSOFT-CDO-ALLDAYEVENT:FALSE
SUMMARY:Kick Off to Summer Party
DESCRIPTION:
X-ALT-DESC;FMTTYPE=text/html:
LOCATION:Horsefair Park
UID:e.2066.4528
SEQUENCE:3
DTSTAMP:20260422T191242Z
URL:https://business.chainolakeschamber.com/events/details/kick-off-to-summer-party-4528
END:VEVENT

END:VCALENDAR
