BEGIN:VCALENDAR
VERSION:2.0
PRODID:-//ChamberMaster//Event Calendar 2.0//EN
METHOD:PUBLISH
X-PUBLISHED-TTL:P3D
REFRESH-INTERVAL:P3D
CALSCALE:GREGORIAN
BEGIN:VEVENT
DTSTART:20230624T140000Z
DTEND:20230624T170000Z
X-MICROSOFT-CDO-ALLDAYEVENT:FALSE
SUMMARY:Lakemoor Child Safety Seat Event
DESCRIPTION:Sponsored by Patricia Steffenhagen-Pipkin:\n\n\n\nLearn how to install your child safety seats from professionals!\n\nThey will show you step by step\, so you leave with a properly installed seat.\n\nGreat for parents\, grandparents and caretakers!\n\nChildren are not required for installation but are welcome.
X-ALT-DESC;FMTTYPE=text/html:Sponsored by Patricia Steffenhagen-Pipkin:<br />\n<br />\nLearn how to install your child safety seats from professionals!<br />\nThey will show you step by step\, so you leave with a properly installed seat.<br />\nGreat for parents\, grandparents and caretakers!<br />\nChildren are not required for installation but are welcome.
LOCATION:Lakemoor Village Hall Front Parking Lot 28581 IL 120
UID:e.2066.5228
SEQUENCE:3
DTSTAMP:20260419T173818Z
URL:https://business.chainolakeschamber.com/events/details/lakemoor-child-safety-seat-event-5228
END:VEVENT

END:VCALENDAR
