BEGIN:VCALENDAR
VERSION:2.0
PRODID:-//ChamberMaster//Event Calendar 2.0//EN
METHOD:PUBLISH
X-PUBLISHED-TTL:P3D
REFRESH-INTERVAL:P3D
CALSCALE:GREGORIAN
BEGIN:VEVENT
DTSTART:20260516T033000Z
DTEND:20260516T045500Z
X-MICROSOFT-CDO-ALLDAYEVENT:FALSE
SUMMARY:Last Laughs & Late Nights: MESSES After Party at the Vixen
DESCRIPTION:Get ready for a night that lives up to the name. MESSES is taking over the Vixen with nonstop energy\, a packed dance floor\, and the kind of party you'll be talking about long after last call.\n\n\n\nDJ MESSES is bringing a high-impact mix of throwback anthems\, emo favorites\, and crowd-shaking EDM hits designed to keep the room moving all night. Whether you're there to scream every lyric\, dance it out\, or just let loose with your crew\, this is your excuse to go all in.\n\n\n\nExpect a full-night experience with seamless mixes\, hype moments\, and zero filler. From the first track to the final song\, it's all about the vibe\, the music\, and the memories you make in between.\n\n\n\nRound up your people\, grab a drink\, and get ready to make some MESSES.
X-ALT-DESC;FMTTYPE=text/html:Get ready for a night that lives up to the name. MESSES is taking over the Vixen with nonstop energy\, a packed dance floor\, and the kind of party you&rsquo\;ll be talking about long after last call.<br />\n<br />\nDJ MESSES is bringing a high-impact mix of throwback anthems\, emo favorites\, and crowd-shaking EDM hits designed to keep the room moving all night. Whether you&rsquo\;re there to scream every lyric\, dance it out\, or just let loose with your crew\, this is your excuse to go all in.<br />\n<br />\nExpect a full-night experience with seamless mixes\, hype moments\, and zero filler. From the first track to the final song\, it&rsquo\;s all about the vibe\, the music\, and the memories you make in between.<br />\n<br />\nRound up your people\, grab a drink\, and get ready to make some MESSES.
LOCATION:The Vixen. 1208 N. Green St\, McHenry\, IL 60050.
UID:e.2066.13208
SEQUENCE:3
DTSTAMP:20260425T225337Z
URL:https://business.chainolakeschamber.com/events/details/last-laughs-late-nights-messes-after-party-at-the-vixen-13208
END:VEVENT

END:VCALENDAR
