BEGIN:VCALENDAR
VERSION:2.0
PRODID:-//ChamberMaster//Event Calendar 2.0//EN
METHOD:PUBLISH
X-PUBLISHED-TTL:P3D
REFRESH-INTERVAL:P3D
CALSCALE:GREGORIAN
BEGIN:VEVENT
DTSTART:20230520T150000Z
DTEND:20230520T160000Z
X-MICROSOFT-CDO-ALLDAYEVENT:FALSE
SUMMARY:Main Stay Volunteer Tour
DESCRIPTION:Are you interested\, or do you know someone who is interested in learning more about volunteering? Please join us for a Volunteer Tour & Info Session on Saturday\, May 20th at 10-11am. Come tour the farm\, watch a class\, see the animals and learn about available volunteer roles. Our programs rely on dedicated and caring volunteers! Experienced horse people are especially needed.\n\n\n\nRegistration required by Wednesday\, May 17th. To register\, Scan the QR code or visit: www.mainstayfarm.org/registration/
X-ALT-DESC;FMTTYPE=text/html:Are you interested\, or do you know someone who is interested in learning more about volunteering? Please join us for a Volunteer Tour &amp\; Info Session on Saturday\, May 20th at 10-11am. Come tour the farm\, watch a class\, see the animals and learn about available volunteer roles. Our programs rely on dedicated and caring volunteers! Experienced horse people are especially needed.<br />\n<br />\nRegistration required by Wednesday\, May 17th. To register\, Scan the QR code or visit: www.mainstayfarm.org/registration/
LOCATION:Main Stay Therapeutic Farm 6919 Keystone Road Richmond\, IL
UID:e.2066.5091
SEQUENCE:3
DTSTAMP:20260419T190226Z
URL:https://business.chainolakeschamber.com/events/details/main-stay-volunteer-tour-5091
END:VEVENT

END:VCALENDAR
