BEGIN:VCALENDAR
VERSION:2.0
PRODID:-//ChamberMaster//Event Calendar 2.0//EN
METHOD:PUBLISH
X-PUBLISHED-TTL:P3D
REFRESH-INTERVAL:P3D
CALSCALE:GREGORIAN
BEGIN:VEVENT
DTSTART:20230427T233000Z
DTEND:20230428T010000Z
X-MICROSOFT-CDO-ALLDAYEVENT:FALSE
SUMMARY:Medicare 101
DESCRIPTION:Medicare Solutions Network will present a tree educational seminar to get you up to speed on what Medicare covers\, what is doesn't\, and your potential out of pocket exposure.  We'll discuss Supplements\, Medicare Advantage Plans\, Part D Prescription Plans\, and cost savings strategies for years ahead. Presented by Robin Dawson\, Medicare Solutions Network
X-ALT-DESC;FMTTYPE=text/html:Medicare Solutions Network will present a tree educational seminar to get you up to speed on what Medicare covers\, what is doesn&#39\;t\, and your potential out of pocket exposure.&nbsp\; We&#39\;ll discuss Supplements\, Medicare Advantage Plans\, Part D Prescription Plans\, and cost savings strategies for years ahead. Presented by Robin Dawson\, Medicare Solutions Network
LOCATION:Elderwerks 251 E. Northwest Hwy Palatine\, IL 60067
UID:e.2066.4952
SEQUENCE:3
DTSTAMP:20260419T205407Z
URL:https://business.chainolakeschamber.com/events/details/medicare-101-4952
END:VEVENT

END:VCALENDAR
