BEGIN:VCALENDAR
VERSION:2.0
PRODID:-//ChamberMaster//Event Calendar 2.0//EN
METHOD:PUBLISH
X-PUBLISHED-TTL:P3D
REFRESH-INTERVAL:P3D
CALSCALE:GREGORIAN
BEGIN:VEVENT
DTSTART:20230524T123000Z
DTEND:20230524T133000Z
X-MICROSOFT-CDO-ALLDAYEVENT:FALSE
SUMMARY:Membership Meeting - Village of Fox Lake
DESCRIPTION:Our next Membership Meeting will be at the Fox Lake Village Hall!\n\nUpdate from Mayor Donny Schmit\, Executive Director Therese Matthys and introductions by new members!
X-ALT-DESC;FMTTYPE=text/html:Our next Membership Meeting will be at the Fox Lake Village Hall!<br />\nUpdate from Mayor Donny Schmit\, Executive Director Therese Matthys and introductions by new members!
LOCATION:Fox Lake Village Hall 66 Thillen Drive Fox Lake
UID:e.2066.4955
SEQUENCE:3
DTSTAMP:20260419T190726Z
URL:https://business.chainolakeschamber.com/events/details/membership-meeting-village-of-fox-lake-4955
END:VEVENT

END:VCALENDAR
