BEGIN:VCALENDAR
VERSION:2.0
PRODID:-//ChamberMaster//Event Calendar 2.0//EN
METHOD:PUBLISH
X-PUBLISHED-TTL:P3D
REFRESH-INTERVAL:P3D
CALSCALE:GREGORIAN
BEGIN:VEVENT
DTSTART:20260517T150000Z
DTEND:20260517T170000Z
X-MICROSOFT-CDO-ALLDAYEVENT:FALSE
SUMMARY:Mike Singletary at River Ridge Church
DESCRIPTION:Join us at our Trevor Church\, which meets in the Trevor Wilmot Grade School on May 17 at 10 a.m.for our worship service with special guest\, Mike Singletary.  Mike was an all-pro middle linebacker with the Chicago Bears for 12 years\, a leader with the 1985 Super Bowl Championship team\, and a Hall of Famer.  He will share a message on faith and family.  This is a free event\, and all are welcome\, whether you attend our church or not.  This is a family-friendly event\, and we will have a children's program during the service.
X-ALT-DESC;FMTTYPE=text/html:Join us at our Trevor Church\, which meets in the Trevor Wilmot Grade School on May 17 at 10 a.m.for our worship service with special guest\, Mike Singletary.&nbsp\; Mike was an all-pro middle linebacker with the Chicago Bears for 12 years\, a leader with the 1985 Super Bowl Championship team\, and a Hall of Famer.&nbsp\; He will share a message on faith and family.&nbsp\; This is a free event\, and all are welcome\, whether you attend our church or not.&nbsp\; This is a family-friendly event\, and we will have a children&#39\;s program during the service.&nbsp\;
LOCATION:River Ridge Church Meeting at Trevor-Wilmot Grade School 26325 Wilmot Rd Trevor\, WI 53179
UID:e.2066.13209
SEQUENCE:3
DTSTAMP:20260425T225149Z
URL:https://business.chainolakeschamber.com/events/details/mike-singletary-at-river-ridge-church-13209
END:VEVENT

END:VCALENDAR
