BEGIN:VCALENDAR
VERSION:2.0
PRODID:-//ChamberMaster//Event Calendar 2.0//EN
METHOD:PUBLISH
X-PUBLISHED-TTL:P3D
REFRESH-INTERVAL:P3D
CALSCALE:GREGORIAN
BEGIN:VEVENT
DTSTART:20230610T160000Z
DTEND:20230610T190000Z
X-MICROSOFT-CDO-ALLDAYEVENT:FALSE
SUMMARY:Nature's Feed Pet Nail Clipping
DESCRIPTION:Saturday\, June 10th from 11:00 a.m. to 2:00 p.m. bring your fur babies to Nature's Feed located at 2440 Westward Dr for their pet nail clipping event! Donations requested benefit Helping Paws Animal Shelter & nail clippings are being provided by Sophie from Plush Pup.
X-ALT-DESC;FMTTYPE=text/html:<span style="border: 0px\; font-variant-numeric: inherit\; font-variant-east-asian: inherit\; font-variant-alternates: inherit\; font-stretch: inherit\; font-size: 12px\; line-height: inherit\; font-family: Arial\, Verdana\, Helvetica\, sans-serif\; font-optical-sizing: inherit\; font-kerning: inherit\; font-feature-settings: inherit\; font-variation-settings: inherit\; margin: 0px\; padding: 0px\; vertical-align: baseline\; color: rgb(77\, 77\, 77)\; background-color: rgb(255\, 255\, 255)\;">Saturday\, June 10th from 11:00 a.m. to 2:00 p.m. bring your fur babies to&nbsp\;</span><a data-auth="NotApplicable" data-linkindex="3" href="https://r20.rs6.net/tn.jsp?f=0015SFNp5vkAGWgGlmoQFaFM8I4qDh8EMA--BnDoBo8We4NXvR08XWwW2_qp8Az19vvlcCf99j6LSmKykXlV09NFvW3GSmEEH_dOZEpcj_B2_lKWq72ivFzucCzVRsKJnO2QF-8KeLfD7w31TNu5OIcyA==&amp\;c=-MZkBE0x3TK-8FmVGhtby3GMhg_jp_djImvJfL8uIp4XoFk2D5TM-Q==&amp\;ch=IBI61H3J97v2uIoDLdlQNZt6mjB8nUWNBCI-zZCIhN4l_i9DJRVoJA==" rel="noopener noreferrer" style="border: 0px\; font-variant-numeric: inherit\; font-variant-east-asian: inherit\; font-variant-alternates: inherit\; font-stretch: inherit\; font-size: 12px\; line-height: inherit\; font-family: Arial\, Verdana\, Helvetica\, sans-serif\; font-optical-sizing: inherit\; font-kerning: inherit\; font-feature-settings: inherit\; font-variation-settings: inherit\; margin: 0px\; padding: 0px\; vertical-align: baseline\; background-color: rgb(255\, 255\, 255)\; color: rgb(77\, 77\, 77)\;" target="_blank">Nature&#39\;s Feed</a><span style="border: 0px\; font-variant-numeric: inherit\; font-variant-east-asian: inherit\; font-variant-alternates: inherit\; font-stretch: inherit\; font-size: 12px\; line-height: inherit\; font-family: Arial\, Verdana\, Helvetica\, sans-serif\; font-optical-sizing: inherit\; font-kerning: inherit\; font-feature-settings: inherit\; font-variation-settings: inherit\; margin: 0px\; padding: 0px\; vertical-align: baseline\; color: rgb(77\, 77\, 77)\; background-color: rgb(255\, 255\, 255)\;">&nbsp\;located at&nbsp\;</span><a data-auth="NotApplicable" data-linkindex="4" href="https://r20.rs6.net/tn.jsp?f=0015SFNp5vkAGWgGlmoQFaFM8I4qDh8EMA--BnDoBo8We4NXvR08XWwWxZed_1L_C4n20yW77Pg_edCC-tSw9bfioI5S6DU_zEmecFw6jf7guUCmhFGNxOxDe5K1S66uSxyE32s46u4aRPxgjEgn-6MWm6u5W8FxKYTi9jUPFw99pw=&amp\;c=-MZkBE0x3TK-8FmVGhtby3GMhg_jp_djImvJfL8uIp4XoFk2D5TM-Q==&amp\;ch=IBI61H3J97v2uIoDLdlQNZt6mjB8nUWNBCI-zZCIhN4l_i9DJRVoJA==" rel="noopener noreferrer" style="border: 0px\; font-variant-numeric: inherit\; font-variant-east-asian: inherit\; font-variant-alternates: inherit\; font-stretch: inherit\; font-size: 12px\; line-height: inherit\; font-family: Arial\, Verdana\, Helvetica\, sans-serif\; font-optical-sizing: inherit\; font-kerning: inherit\; font-feature-settings: inherit\; font-variation-settings: inherit\; margin: 0px\; padding: 0px\; vertical-align: baseline\; background-color: rgb(255\, 255\, 255)\; color: rgb(77\, 77\, 77)\;" target="_blank">2440 Westward Dr</a><span style="border: 0px\; font-variant-numeric: inherit\; font-variant-east-asian: inherit\; font-variant-alternates: inherit\; font-stretch: inherit\; font-size: 12px\; line-height: inherit\; font-family: Arial\, Verdana\, Helvetica\, sans-serif\; font-optical-sizing: inherit\; font-kerning: inherit\; font-feature-settings: inherit\; font-variation-settings: inherit\; margin: 0px\; padding: 0px\; vertical-align: baseline\; color: rgb(77\, 77\, 77)\; background-color: rgb(255\, 255\, 255)\;">&nbsp\;for their pet&nbsp\;nail&nbsp\;clipping&nbsp\;event! Donations requested benefit&nbsp\;</span><a data-auth="NotApplicable" data-linkindex="5" href="https://r20.rs6.net/tn.jsp?f=0015SFNp5vkAGWgGlmoQFaFM8I4qDh8EMA--BnDoBo8We4NXvR08XWwW53sVGI6sY0wC2sUFrOPBgoUvJcCNIPt0w0RR_NX-ukPXbPBVey94VmbMWbjh3IUgtuTVqFhZDx0nYXEdWQsgVtSNmI2Op_9Lw==&amp\;c=-MZkBE0x3TK-8FmVGhtby3GMhg_jp_djImvJfL8uIp4XoFk2D5TM-Q==&amp\;ch=IBI61H3J97v2uIoDLdlQNZt6mjB8nUWNBCI-zZCIhN4l_i9DJRVoJA==" rel="noopener noreferrer" style="border: 0px\; font-variant-numeric: inherit\; font-variant-east-asian: inherit\; font-variant-alternates: inherit\; font-stretch: inherit\; font-size: 12px\; line-height: inherit\; font-family: Arial\, Verdana\, Helvetica\, sans-serif\; font-optical-sizing: inherit\; font-kerning: inherit\; font-feature-settings: inherit\; font-variation-settings: inherit\; margin: 0px\; padding: 0px\; vertical-align: baseline\; background-color: rgb(255\, 255\, 255)\; color: rgb(77\, 77\, 77)\;" target="_blank">Helping Paws Animal Shelter</a><span style="border: 0px\; font-variant-numeric: inherit\; font-variant-east-asian: inherit\; font-variant-alternates: inherit\; font-stretch: inherit\; font-size: 12px\; line-height: inherit\; font-family: Arial\, Verdana\, Helvetica\, sans-serif\; font-optical-sizing: inherit\; font-kerning: inherit\; font-feature-settings: inherit\; font-variation-settings: inherit\; margin: 0px\; padding: 0px\; vertical-align: baseline\; color: rgb(77\, 77\, 77)\; background-color: rgb(255\, 255\, 255)\;">&nbsp\;&amp\;&nbsp\;nail&nbsp\;clippings are being provided by Sophie from&nbsp\;</span><a data-auth="NotApplicable" data-linkindex="6" href="https://r20.rs6.net/tn.jsp?f=0015SFNp5vkAGWgGlmoQFaFM8I4qDh8EMA--BnDoBo8We4NXvR08XWwWxZed_1L_C4njJ99qk2zP1O0SoGm_dYZ2bUOFxpWJwaTvYSJrIxfppBt51Wz57yPrJL4QmXQS3UDfeA6ULAs_dWyGMjLsup8eUycabJjE5yAz6ntvq8u5Ew=&amp\;c=-MZkBE0x3TK-8FmVGhtby3GMhg_jp_djImvJfL8uIp4XoFk2D5TM-Q==&amp\;ch=IBI61H3J97v2uIoDLdlQNZt6mjB8nUWNBCI-zZCIhN4l_i9DJRVoJA==" rel="noopener noreferrer" style="border: 0px\; font-variant-numeric: inherit\; font-variant-east-asian: inherit\; font-variant-alternates: inherit\; font-stretch: inherit\; font-size: 12px\; line-height: inherit\; font-family: Arial\, Verdana\, Helvetica\, sans-serif\; font-optical-sizing: inherit\; font-kerning: inherit\; font-feature-settings: inherit\; font-variation-settings: inherit\; margin: 0px\; padding: 0px\; vertical-align: baseline\; background-color: rgb(255\, 255\, 255)\; color: rgb(77\, 77\, 77)\;" target="_blank">Plush Pup</a><span style="color: rgb(123\, 110\, 101)\; font-family: Arial\, Verdana\, Helvetica\, sans-serif\; font-size: 12px\; background-color: rgb(255\, 255\, 255)\;">.</span>
LOCATION:Nature's Feed 2440 Westward Dr Spring Grove IL
UID:e.2066.5240
SEQUENCE:3
DTSTAMP:20260419T190352Z
URL:https://business.chainolakeschamber.com/events/details/nature-s-feed-pet-nail-clipping-5240
END:VEVENT

END:VCALENDAR
