BEGIN:VCALENDAR
VERSION:2.0
PRODID:-//ChamberMaster//Event Calendar 2.0//EN
METHOD:PUBLISH
X-PUBLISHED-TTL:P3D
REFRESH-INTERVAL:P3D
CALSCALE:GREGORIAN
BEGIN:VEVENT
DTSTART:20260709T140000Z
DTEND:20260709T150000Z
X-MICROSOFT-CDO-ALLDAYEVENT:FALSE
SUMMARY:Nourish & Flourish with Living Roots Farm & Ellen Corey
DESCRIPTION:Take time for YOU this summer with this uplifting four-part series designed to help you feel your best from the inside out.  \n\nJoin us on the starting on May 14\, and continuing June 11\, July 9\, and August 13 for a guided journey focused on building immunity\, choosing healthier foods\, and creating lasting energy in your daily life.\n\nEach session includes:\n\n? Stress relief meditation\n\n? One fresh\, nourishing green from Living Roots\n\n? Meaningful discussion and practical takeaways\n\nHosted by Living Roots Farm and Health & Wellness Coach Ellen Corey\, this series blends education\, relaxation\, and community in a supportive and welcoming environment.\n\n  Cost: $67 for all four sessions\n\nCome ready to recharge\, learn\, and grow?because when you nourish your body and soul\, you truly flourish.
X-ALT-DESC;FMTTYPE=text/html:<p data-end="201" data-start="73">Take time for YOU this summer with this uplifting four-part series designed to help you feel your best from the inside out. &#127807\;</p>\n\n<p data-end="421" data-start="203">Join us on the starting on&nbsp\;<strong data-end="294" data-start="252">May 14\, and continuing June 11\, July 9\, and August 13&nbsp\;</strong>for a guided journey focused on building immunity\, choosing healthier foods\, and creating lasting energy in your daily life.</p>\n\n<p data-end="562" data-start="423">Each session includes:<br />\n? Stress relief meditation<br data-end="475" data-start="472" />\n? One fresh\, nourishing green from Living Roots<br data-end="513" data-start="510" />\n? Meaningful discussion and practical takeaways</p>\n\n<p data-end="741" data-start="564">Hosted by <strong data-end="595" data-start="574">Living Roots Farm</strong> and Health &amp\; Wellness Coach <strong data-end="639" data-start="624">Ellen Corey</strong>\, this series blends education\, relaxation\, and community in a supportive and welcoming environment.</p>\n\n<p data-end="779" data-start="743">&#128178\; Cost: $67 for all four sessions</p>\n\n<p data-end="889" data-is-last-node="" data-is-only-node="" data-start="781">Come ready to recharge\, learn\, and grow?because when you nourish your body and soul\, you truly flourish. &#127793\;&#10024\;</p>\n
LOCATION:Living Roots Farm 104 Sayton Rd. Fox Lake IL 60020
UID:e.2066.13203
SEQUENCE:3
DTSTAMP:20260426T020036Z
URL:https://business.chainolakeschamber.com/events/details/nourish-flourish-with-living-roots-farm-ellen-corey-13203
END:VEVENT

END:VCALENDAR
