BEGIN:VCALENDAR
VERSION:2.0
PRODID:-//ChamberMaster//Event Calendar 2.0//EN
METHOD:PUBLISH
X-PUBLISHED-TTL:P3D
REFRESH-INTERVAL:P3D
CALSCALE:GREGORIAN
BEGIN:VEVENT
DTSTART:20260523T033000Z
DTEND:20260523T045500Z
X-MICROSOFT-CDO-ALLDAYEVENT:FALSE
SUMMARY:One More Round at Durty Nellie's with DJ MESSES
DESCRIPTION:All gas\, no slowing down just wall-to-wall bangers from the moment you walk in.\n\n\n\nDJ MESSES is taking over Durty Nellie's until close with a nonstop soundtrack of throwback hits\, emo anthems\, guilty pleasures\, EDM bangers\, and crowd favorites built to keep the energy locked in all night. The songs that hit you with instant nostalgia\, the ones that turn strangers into a choir\, and the tracks that make "one more drink" turn into closing time.\n\n\n\nCome ready to lose your voice\, lose track of time\, and keep the night alive a little longer than you planned. Whether you're ending your night here or making it the main event\, the party doesn't slow down once you step inside.\n\n\n\nGet in\, get loud\, and stay Durty 'til the lights come on.
X-ALT-DESC;FMTTYPE=text/html:All gas\, no slowing down&mdash\;just wall-to-wall bangers from the moment you walk in.<br />\n<br />\nDJ MESSES is taking over Durty Nellie&rsquo\;s until close with a nonstop soundtrack of throwback hits\, emo anthems\, guilty pleasures\, EDM bangers\, and crowd favorites built to keep the energy locked in all night. The songs that hit you with instant nostalgia\, the ones that turn strangers into a choir\, and the tracks that make &ldquo\;one more drink&rdquo\; turn into closing time.<br />\n<br />\nCome ready to lose your voice\, lose track of time\, and keep the night alive a little longer than you planned. Whether you&rsquo\;re ending your night here or making it the main event\, the party doesn&rsquo\;t slow down once you step inside.<br />\n<br />\nGet in\, get loud\, and stay Durty &lsquo\;til the lights come on.
LOCATION:Durty Nellie's | 180 N Smith St\, Palatine\, IL 60067
UID:e.2066.13215
SEQUENCE:3
DTSTAMP:20260425T225250Z
URL:https://business.chainolakeschamber.com/events/details/one-more-round-at-durty-nellie-s-with-dj-messes-13215
END:VEVENT

END:VCALENDAR
