BEGIN:VCALENDAR
VERSION:2.0
PRODID:-//ChamberMaster//Event Calendar 2.0//EN
METHOD:PUBLISH
X-PUBLISHED-TTL:P3D
REFRESH-INTERVAL:P3D
CALSCALE:GREGORIAN
BEGIN:VEVENT
DTSTART:20230508T210000Z
DTEND:20230508T220000Z
X-MICROSOFT-CDO-ALLDAYEVENT:FALSE
SUMMARY:Referral Captains Meeting
DESCRIPTION:Referral Group #1 Meeting\n\n\n\nThis group will meet the 2nd and 4th Monday of each month.
X-ALT-DESC;FMTTYPE=text/html:Referral Group #1 Meeting<br />\n<br />\nThis group will meet the 2nd and 4th Monday of each month.
LOCATION:Stellar Results Realty 9 E. Grand Ave Fox Lake
UID:e.2066.5066
SEQUENCE:3
DTSTAMP:20260419T190242Z
URL:https://business.chainolakeschamber.com/events/details/referral-captains-meeting-5066
END:VEVENT

END:VCALENDAR
