BEGIN:VCALENDAR
VERSION:2.0
PRODID:-//ChamberMaster//Event Calendar 2.0//EN
METHOD:PUBLISH
X-PUBLISHED-TTL:P3D
REFRESH-INTERVAL:P3D
CALSCALE:GREGORIAN
BEGIN:VEVENT
DTSTART:20260627T160000Z
DTEND:20260628T220000Z
X-MICROSOFT-CDO-ALLDAYEVENT:FALSE
SUMMARY:Richmond Round Up Days
DESCRIPTION:The Village of Richmond in cooperation with the Richmond Township Fire Protection District and Anderson's Candy Shop is organizing a Round-Up Days Revival Weekend this summer! The two-day event aims to celebrate our Nation's 250th Birthday\, 100 years of the Richmond Township Fire Protection District and also the 100th anniversary of Anderson's Candy Shop's relocation to our town. Reigniting the fun\, community building of Round-Up Days gone by\, this year's event will include live music\, food\, beer\, a street dance\, historical displays\, a parade and more!
X-ALT-DESC;FMTTYPE=text/html:The Village of Richmond in cooperation with the Richmond Township Fire Protection District and Anderson&rsquo\;s Candy Shop is organizing a Round-Up Days Revival Weekend this summer! The two-day event aims to celebrate our Nation&rsquo\;s 250th Birthday\, 100 years of the Richmond Township Fire Protection District and also the 100th anniversary of Anderson&rsquo\;s Candy Shop&rsquo\;s relocation to our town. Reigniting the fun\, community building of Round-Up Days gone by\, this year&rsquo\;s event will include live music\, food\, beer\, a street dance\, historical displays\, a parade and more!
LOCATION:Downtown Richmond
UID:e.2066.13219
SEQUENCE:3
DTSTAMP:20260426T002848Z
URL:https://business.chainolakeschamber.com/events/details/richmond-round-up-days-13219
END:VEVENT

END:VCALENDAR
