BEGIN:VCALENDAR
VERSION:2.0
PRODID:-//ChamberMaster//Event Calendar 2.0//EN
METHOD:PUBLISH
X-PUBLISHED-TTL:P3D
REFRESH-INTERVAL:P3D
CALSCALE:GREGORIAN
BEGIN:VEVENT
DTSTART:20230425T140000Z
DTEND:20230425T160000Z
X-MICROSOFT-CDO-ALLDAYEVENT:FALSE
SUMMARY:Sales Skills You Need to Master
DESCRIPTION:In this interactive workshop\, you will learn the practical skills every sales professional needs to master. You will learn the 5 keys to increasing your sales influence\, sharpen your sales\, and persuasion skills. 5 Keys to focus on:   How Belief Affects Your Results   How to Identify Ideal Clients   Why Relationships Matter   3 Questions to Ask in Every Deal   The Importance of Persistence
X-ALT-DESC;FMTTYPE=text/html:In this interactive workshop\, you will learn the practical skills every sales professional needs to master. You will learn the 5 keys to increasing your sales influence\, sharpen your sales\, and persuasion skills. 5 Keys to focus on: &bull\; How Belief Affects Your Results &bull\; How to Identify Ideal Clients &bull\; Why Relationships Matter &bull\; 3 Questions to Ask in Every Deal &bull\; The Importance of Persistence
LOCATION:Live Zoom
UID:e.2066.5034
SEQUENCE:3
DTSTAMP:20260419T210027Z
URL:https://business.chainolakeschamber.com/events/details/sales-skills-you-need-to-master-04-25-2023-5034
END:VEVENT

END:VCALENDAR
