BEGIN:VCALENDAR
VERSION:2.0
PRODID:-//ChamberMaster//Event Calendar 2.0//EN
METHOD:PUBLISH
X-PUBLISHED-TTL:P3D
REFRESH-INTERVAL:P3D
CALSCALE:GREGORIAN
BEGIN:VEVENT
DTSTART:20260319T230000Z
DTEND:20260320T020000Z
X-MICROSOFT-CDO-ALLDAYEVENT:FALSE
SUMMARY:Spring Paint and Sip: Wood Sign Workshop
DESCRIPTION:Join us for a spring-themed paint & sip at No Wake Bar & Grill!  \n\n\n\nWelcome spring in style at our Paint & Sip event! Each guest will paint an 11" solid wood door sign\, choosing from three beautifully designed spring-themed options. All materials are provided for an easy\, enjoyable creative experience   perfect for adding a seasonal touch to your home. Food and beverages will be available for purchase separately.
X-ALT-DESC;FMTTYPE=text/html:<span style="font-size:20px"><strong>Join us for a spring-themed paint &amp\; sip at No Wake Bar &amp\; Grill!&nbsp\;&nbsp\;</strong></span><br />\n<br />\nWelcome spring in style at our Paint &amp\; Sip event! Each guest will paint an 11&quot\; solid wood door sign\, choosing from three beautifully designed spring-themed options. All materials are provided for an easy\, enjoyable creative experience &mdash\; perfect for adding a seasonal touch to your home. Food and beverages will be available for purchase separately.
LOCATION:No Wake Bar & Grill 99 Kazimour Drive Port Barrington\, IL 60010
UID:e.2066.12866
SEQUENCE:3
DTSTAMP:20260425T234657Z
URL:https://business.chainolakeschamber.com/events/details/spring-paint-and-sip-wood-sign-workshop-12866
END:VEVENT

END:VCALENDAR
