BEGIN:VCALENDAR
VERSION:2.0
PRODID:-//ChamberMaster//Event Calendar 2.0//EN
METHOD:PUBLISH
X-PUBLISHED-TTL:P3D
REFRESH-INTERVAL:P3D
CALSCALE:GREGORIAN
BEGIN:VEVENT
DTSTART:20260315T170000Z
DTEND:20260315T210000Z
X-MICROSOFT-CDO-ALLDAYEVENT:FALSE
SUMMARY:St. Paddy's Day Barket & Artisan Market at Harbor Brewing
DESCRIPTION:St. Paddy's Day Barket & Artisan Market at Harbor Brewing \n\n Sip on craft brews while discovering handmade goods and artisanal treats for both dogs and their humans \n\n\n\nMutt Strut: Bring your pup to strut their stuff and win prizes! Sponsored by Thrive Pet Supply in Antioch!\n\n\n\n Enjoy brews\, delicious Mexican food from San Judas Taco Truck\, shop local\, and connect with friends humans and pups alike!\n\n\n\nFurever Home Dog Sanctuary will be there with a loving pup ready for hugs and kisses!\n\nFor Good Rescue will be there with puppy meet n greet! Ready with puppy kisses!\n\n Learn more about their amazing organization and what they do for our four-legged friends!
X-ALT-DESC;FMTTYPE=text/html:&nbsp\;St. Paddy&rsquo\;s Day Barket &amp\; Artisan Market at Harbor Brewing&nbsp\;<br />\n&nbsp\;Sip on craft brews while discovering handmade goods and artisanal treats for both dogs and their humans&nbsp\;<br />\n<br />\nMutt Strut: Bring your pup to strut their stuff and win prizes! Sponsored by Thrive Pet Supply in Antioch!<br />\n<br />\n&nbsp\;Enjoy brews\, delicious Mexican food from San Judas Taco Truck\, shop local\, and connect with friends&mdash\;humans and pups alike!<br />\n<br />\nFurever Home Dog Sanctuary will be there with a loving pup ready for hugs and kisses!<br />\nFor Good Rescue will be there with puppy meet n greet! Ready with puppy kisses!<br />\n<em>&nbsp\;Learn more about their amazing organization and what they do for our four-legged friends!</em><br />\n<br />\n&nbsp\;
LOCATION:Barrel Room at Harbor Brewing 136 Cedar Avenue\, Lake Villa\, IL\, 60046
UID:e.2066.12869
SEQUENCE:3
DTSTAMP:20260425T234901Z
URL:https://business.chainolakeschamber.com/events/details/st-paddy-s-day-barket-artisan-market-at-harbor-brewing-12869
END:VEVENT

END:VCALENDAR
