BEGIN:VCALENDAR
VERSION:2.0
PRODID:-//ChamberMaster//Event Calendar 2.0//EN
METHOD:PUBLISH
X-PUBLISHED-TTL:P3D
REFRESH-INTERVAL:P3D
CALSCALE:GREGORIAN
BEGIN:VEVENT
DTSTART:20260515T140000Z
DTEND:20260516T033000Z
X-MICROSOFT-CDO-ALLDAYEVENT:FALSE
SUMMARY:Strategies to Help You Achieve Your Financial Goals Presentation
DESCRIPTION:Join us for our presentation!\n\nAt Edward Jones\, understanding your goals and partnering with you to achieve them is the best part of what we do. Financial education is an important piece of the partnership. That's why we're excited to invite you to our upcoming event\, where you'll learn about strategies to help you achieve your financial goals.\n\n	Behavioral Finance\n	Harrison House\n	Regional Director\n	Fidelty\n\nTo reserve space for yourelf\, please call 847-443-4082
X-ALT-DESC;FMTTYPE=text/html:Join us for our presentation!<br />\nAt Edward Jones\, understanding your goals and partnering with you to achieve them is the best part of what we do. Financial education is an important piece of the partnership. That&#39\;s why we&#39\;re excited to invite you to our upcoming event\, where you&#39\;ll learn about strategies to help you achieve your financial goals.\n<ul>\n	<li>Behavioral Finance</li>\n	<li>Harrison House</li>\n	<li>Regional Director</li>\n	<li>Fidelty</li>\n</ul>\nTo reserve space for yourelf\, please call 847-443-4082
LOCATION:Whistle Stop Cafe 15 E. Grand Ave. Fox Lake IL 60020
UID:e.2066.13217
SEQUENCE:3
DTSTAMP:20260425T225359Z
URL:https://business.chainolakeschamber.com/events/details/strategies-to-help-you-achieve-your-financial-goals-presentation-13217
END:VEVENT

END:VCALENDAR
