BEGIN:VCALENDAR
VERSION:2.0
PRODID:-//ChamberMaster//Event Calendar 2.0//EN
METHOD:PUBLISH
X-PUBLISHED-TTL:P3D
REFRESH-INTERVAL:P3D
CALSCALE:GREGORIAN
BEGIN:VEVENT
DTSTART:20230425T220000Z
DTEND:20230426T000000Z
X-MICROSOFT-CDO-ALLDAYEVENT:FALSE
SUMMARY:The Salvation Army Anniversary Celebration
DESCRIPTION:Come join us as we celebrate serving McHenry County for 30+ years!\n\nLearn about The Salvation Army's history. Learn how your donations stay in an help serve McHenry County.\n\nTry a donut made with the original donut recipe used by the lassies for the soldiers during WWI.
X-ALT-DESC;FMTTYPE=text/html:Come join us as we celebrate serving McHenry County for 30+ years!<br />\nLearn about The Salvation Army&#39\;s history. Learn how your donations stay in an help serve McHenry County.<br />\nTry a donut made with the original donut recipe used by the lassies for the soldiers during WWI.
LOCATION:The Salvation Army of McHenry County 290 W. Crystal Lake Ave. Crystal Lake IL
UID:e.2066.5095
SEQUENCE:3
DTSTAMP:20260419T205602Z
URL:https://business.chainolakeschamber.com/events/details/the-salvation-army-anniversary-celebration-5095
END:VEVENT

END:VCALENDAR
