BEGIN:VCALENDAR
VERSION:2.0
PRODID:-//ChamberMaster//Event Calendar 2.0//EN
METHOD:PUBLISH
X-PUBLISHED-TTL:P3D
REFRESH-INTERVAL:P3D
CALSCALE:GREGORIAN
BEGIN:VEVENT
DTSTART:20230426T230000Z
DTEND:20230427T020000Z
X-MICROSOFT-CDO-ALLDAYEVENT:FALSE
SUMMARY:Trivia Night Fundraiser to Benefit Elderwerks
DESCRIPTION:$30 per person includes buffet dinner\, unlimited soft drinks/iced tea/water\, and trivia\n	Cash bar will be available \n	Sign up your team of up to 6 people or join a team\n	Hosted by Elderwerks\n	Trivia Presented by Pub Trivia USA\n	Must register by Tuesday\, April 18\n\n \n\nElderwerks Educational Services is a not-for-profit 501(c)3 organization offering complimentary senior living coordination\, advocacy\, and education. Funds raised will benefit Elderwerks Educational Services.\n\n\n\nPlease email events@elderwerks.org or call 847-462-0885 if you have any questions about The Palatine Jaycees & Elderwerks Trivia night.
X-ALT-DESC;FMTTYPE=text/html:<ul>\n	<li><span style="color:#002060"><span style="font-family:cambria\,serif"><span style="font-size:14.0pt">$30 per person includes buffet dinner\, unlimited soft drinks/iced tea/water\, and trivia</span></span></span></li>\n	<li><span style="color:#002060"><span style="font-family:cambria\,serif"><span style="font-size:14.0pt">Cash bar will be available </span></span></span></li>\n	<li><span style="color:#002060"><span style="font-family:cambria\,serif"><span style="font-size:14.0pt">Sign up your team of up to 6 people or join a team</span></span></span></li>\n	<li><span style="color:#002060"><span style="font-family:cambria\,serif"><span style="font-size:14.0pt">Hosted by Elderwerks</span></span></span></li>\n	<li><span style="color:#002060"><span style="font-family:cambria\,serif"><span style="font-size:14.0pt">Trivia Presented by Pub Trivia USA</span></span></span></li>\n	<li><span style="color:#002060"><span style="font-family:cambria\,serif"><span style="font-size:14.0pt">Must register by Tuesday\, April 18</span></span></span></li>\n</ul>\n&nbsp\;<br />\n<span style="color:#002060"><span style="font-family:cambria\,serif"><span style="font-size:14.0pt">Elderwerks Educational Services is a not-for-profit 501(c)3 organization offering complimentary senior living coordination\, advocacy\, and education. Funds raised will benefit Elderwerks Educational Services.</span></span></span><br />\n<br />\n<span style="color:#002060"><span style="font-family:cambria\,serif"><span style="font-size:14.0pt">Please email </span></span></span><a href="mailto:events@elderwerks.org"><span style="font-family:cambria\,serif"><span style="font-size:14.0pt">events@elderwerks.org</span></span></a><span style="color:#002060"><span style="font-family:cambria\,serif"><span style="font-size:14.0pt"> or call 847-462-0885 if you have any questions about The Palatine Jaycees &amp\; Elderwerks Trivia night. </span></span></span>
LOCATION:Tap House Grill 56 W. Wilson Street\, Palatine\, IL
UID:e.2066.5048
SEQUENCE:3
DTSTAMP:20260419T223209Z
URL:https://business.chainolakeschamber.com/events/details/trivia-night-fundraiser-5048
END:VEVENT

END:VCALENDAR
