BEGIN:VCALENDAR
VERSION:2.0
PRODID:-//ChamberMaster//Event Calendar 2.0//EN
METHOD:PUBLISH
X-PUBLISHED-TTL:P3D
REFRESH-INTERVAL:P3D
CALSCALE:GREGORIAN
BEGIN:VEVENT
DTSTART:20260324T150000Z
DTEND:20260324T160000Z
X-MICROSOFT-CDO-ALLDAYEVENT:FALSE
SUMMARY:VIRTUAL - Chamber Essentials
DESCRIPTION:Join us for a VIRTUAL Chamber Essentials\, a quick virtual session designed to help you make the most of your Chamber membership! During this workshop\, we'll walk you through how to update and enhance your member profile\, post events\, add job openings\, and promote your business with Hot Deals on the Chamber website.\n\nWe'll also review what you need to send to the Chamber for us to distribute an Ad Eblast to our contact list. Learn the best format for your content\, what images or links to include\, and the details we need to ensure your message is clear\, professional\, and ready to reach hundreds of local contacts. Whether you're new to the Chamber or just need a refresher\, this session will help you maximize the tools available to you.
X-ALT-DESC;FMTTYPE=text/html:<p data-end="328" data-start="0">Join us for a&nbsp\;<strong data-end="34" data-start="12">VIRTUAL Chamber Essentials</strong>\, a quick virtual session designed to help you make the most of your Chamber membership! During this workshop\, we&rsquo\;ll walk you through how to update and enhance your <strong data-end="217" data-start="199">member profile</strong>\, post <strong data-end="234" data-start="224">events</strong>\, add <strong data-end="256" data-start="240">job openings</strong>\, and promote your business with <strong data-end="302" data-start="289">Hot Deals</strong> on the Chamber website.</p>\n\n<p data-end="762" data-is-last-node="" data-is-only-node="" data-start="330">We&rsquo\;ll also review <strong data-end="388" data-start="348">what you need to send to the Chamber</strong> for us to distribute an <strong data-end="426" data-start="413">Ad Eblast</strong> to our contact list. Learn the best format for your content\, what images or links to include\, and the details we need to ensure your message is clear\, professional\, and ready to reach hundreds of local contacts. Whether you&#39\;re new to the Chamber or just need a refresher\, this session will help you maximize the tools available to you.</p>\n
LOCATION:VIRTUAL Registration is required to receive link
UID:e.2066.12884
SEQUENCE:3
DTSTAMP:20260425T234522Z
URL:https://business.chainolakeschamber.com/events/details/virtual-chamber-essentials-12884
END:VEVENT

END:VCALENDAR
